BEGIN:VCALENDAR
VERSION:2.0
PRODID:-//wp-events-plugin.com//7.2.3.1//EN
TZID:Europe/Rome
X-WR-TIMEZONE:Europe/Rome
BEGIN:VEVENT
UID:2422@brisighellaeventi.it
DTSTART;TZID=Europe/Rome:20260315T180000
DTEND;TZID=Europe/Rome:20260315T180000
DTSTAMP:20260304T123959Z
URL:https://brisighellaeventi.it/eventi/cultura/cinema/2-cuori-e-2-capanne
 -15-03-nuovo-cinema-giardino/
SUMMARY:2 Cuori e 2 Capanne - 15/03 | Nuovo Cinema Giardino
DESCRIPTION:
ATTACH;FMTTYPE=image/jpeg:https://media.brisighellaeventi.it/brisighellaev
 enti/uploads/2026/03/Cinecitta-SERIAMENTE-11-1500x844-1.avif
CATEGORIES:Cinema
END:VEVENT
BEGIN:VTIMEZONE
TZID:Europe/Rome
X-LIC-LOCATION:Europe/Rome
BEGIN:STANDARD
DTSTART:20251026T020000
TZOFFSETFROM:+0200
TZOFFSETTO:+0100
TZNAME:CET
END:STANDARD
END:VTIMEZONE
END:VCALENDAR