BEGIN:VCALENDAR
VERSION:2.0
PRODID:-//wp-events-plugin.com//7.2.3.1//EN
TZID:Europe/Rome
X-WR-TIMEZONE:Europe/Rome
BEGIN:VEVENT
UID:2475@brisighellaeventi.it
DTSTART;TZID=Europe/Rome:20260720T211500
DTEND;TZID=Europe/Rome:20260720T211500
DTSTAMP:20260424T114629Z
URL:https://brisighellaeventi.it/eventi/cultura/cinema/proiezione-quo-vadi
 s-aida-2-luglio-2026/
SUMMARY:Proiezione "Quo Vadis\, Aida?" - 2 luglio 2026
DESCRIPTION:
ATTACH;FMTTYPE=image/jpeg:https://media.brisighellaeventi.it/brisighellaev
 enti/uploads/2026/04/coverlg-2.avif
CATEGORIES:Cinema
END:VEVENT
BEGIN:VTIMEZONE
TZID:Europe/Rome
X-LIC-LOCATION:Europe/Rome
BEGIN:DAYLIGHT
DTSTART:20260329T030000
TZOFFSETFROM:+0100
TZOFFSETTO:+0200
TZNAME:CEST
END:DAYLIGHT
END:VTIMEZONE
END:VCALENDAR