BEGIN:VCALENDAR
VERSION:2.0
PRODID:-//wp-events-plugin.com//7.2.3.1//EN
TZID:Europe/Rome
X-WR-TIMEZONE:Europe/Rome
BEGIN:VEVENT
UID:2403@brisighellaeventi.it
DTSTART;TZID=Europe/Rome:20260308T173000
DTEND;TZID=Europe/Rome:20260308T173000
DTSTAMP:20260209T132328Z
URL:https://brisighellaeventi.it/eventi/cultura/incontri-e-conferenze/inco
 ntro-e-dibattito-culturale-velda-ponti-di-bambole-furie-e-disperata-dolcez
 za/
SUMMARY:Incontro e dibattito culturale | Velda Ponti – di bambole\, Furie
  e disperata dolcezza
DESCRIPTION:
ATTACH;FMTTYPE=image/jpeg:https://media.brisighellaeventi.it/brisighellaev
 enti/uploads/2026/02/VP-2.avif
CATEGORIES:Incontri e Conferenze
END:VEVENT
BEGIN:VTIMEZONE
TZID:Europe/Rome
X-LIC-LOCATION:Europe/Rome
BEGIN:STANDARD
DTSTART:20251026T020000
TZOFFSETFROM:+0200
TZOFFSETTO:+0100
TZNAME:CET
END:STANDARD
END:VTIMEZONE
END:VCALENDAR