BEGIN:VCALENDAR
VERSION:2.0
PRODID:-//wp-events-plugin.com//7.2.3.1//EN
TZID:Europe/Rome
X-WR-TIMEZONE:Europe/Rome
BEGIN:VEVENT
UID:2414@brisighellaeventi.it
DTSTART;TZID=Europe/Rome:20260321T180000
DTEND;TZID=Europe/Rome:20260321T180000
DTSTAMP:20260305T162208Z
URL:https://brisighellaeventi.it/eventi/cultura/musica-e-festival/poetico-
 festival-della-poesia-dautore-e-concorso-di-poesia/
SUMMARY:Poetico - Festival della poesia d'autore e concorso di poesia
DESCRIPTION:
ATTACH;FMTTYPE=image/jpeg:https://media.brisighellaeventi.it/brisighellaev
 enti/uploads/2026/03/Template-Brisighella-61.avif
CATEGORIES:Musica e festival
END:VEVENT
BEGIN:VTIMEZONE
TZID:Europe/Rome
X-LIC-LOCATION:Europe/Rome
BEGIN:STANDARD
DTSTART:20251026T020000
TZOFFSETFROM:+0200
TZOFFSETTO:+0100
TZNAME:CET
END:STANDARD
END:VTIMEZONE
END:VCALENDAR