BEGIN:VCALENDAR
VERSION:2.0
PRODID:-//wp-events-plugin.com//7.2.3.1//EN
TZID:Europe/Rome
X-WR-TIMEZONE:Europe/Rome
BEGIN:VEVENT
UID:2417@brisighellaeventi.it
DTSTART;TZID=Europe/Rome:20260306T213000
DTEND;TZID=Europe/Rome:20260306T213000
DTSTAMP:20260303T105639Z
URL:https://brisighellaeventi.it/eventi/cultura/musica-e-festival/silvia-w
 akte-live-caffe-della-loggia/
SUMMARY:SILVIA WAKTE live Caffè della Loggia
DESCRIPTION:
ATTACH;FMTTYPE=image/jpeg:https://media.brisighellaeventi.it/brisighellaev
 enti/uploads/2026/03/643091878_18096524177485901_2888293585975292445_n.avi
 f
CATEGORIES:Musica e festival
END:VEVENT
BEGIN:VTIMEZONE
TZID:Europe/Rome
X-LIC-LOCATION:Europe/Rome
BEGIN:STANDARD
DTSTART:20251026T020000
TZOFFSETFROM:+0200
TZOFFSETTO:+0100
TZNAME:CET
END:STANDARD
END:VTIMEZONE
END:VCALENDAR