BEGIN:VCALENDAR
VERSION:2.0
PRODID:-//wp-events-plugin.com//7.2.3.1//EN
TZID:Europe/Rome
X-WR-TIMEZONE:Europe/Rome
BEGIN:VEVENT
UID:2413@brisighellaeventi.it
DTSTART;TZID=Europe/Rome:20260308T160000
DTEND;TZID=Europe/Rome:20260308T190000
DTSTAMP:20260303T101923Z
URL:https://brisighellaeventi.it/eventi/divertimento-e-vita-attiva/intratt
 enimento/festa-della-donna-al-circolo-arci-ambra-libri-e-musica/
SUMMARY:Festa della donna al Circolo Arci Ambra: Libri e musica
DESCRIPTION:
ATTACH;FMTTYPE=image/jpeg:https://media.brisighellaeventi.it/brisighellaev
 enti/uploads/2026/03/69a5bd8a2cb81.avif
CATEGORIES:Intrattenimento
END:VEVENT
BEGIN:VTIMEZONE
TZID:Europe/Rome
X-LIC-LOCATION:Europe/Rome
BEGIN:STANDARD
DTSTART:20251026T020000
TZOFFSETFROM:+0200
TZOFFSETTO:+0100
TZNAME:CET
END:STANDARD
END:VTIMEZONE
END:VCALENDAR