BEGIN:VCALENDAR
VERSION:2.0
PRODID:-//wp-events-plugin.com//7.2.3.1//EN
TZID:Europe/Rome
X-WR-TIMEZONE:Europe/Rome
BEGIN:VEVENT
UID:2462@brisighellaeventi.it
DTSTART;TZID=Europe/Rome:20260425T100000
DTEND;TZID=Europe/Rome:20260425T100000
DTSTAMP:20260403T094650Z
URL:https://brisighellaeventi.it/eventi/divertimento-e-vita-attiva/sport-e
 -motori/yoga-in-vigna-e-pranzo-tra-i-calanchi/
SUMMARY:Yoga in vigna e pranzo tra i calanchi
DESCRIPTION:
ATTACH;FMTTYPE=image/jpeg:https://media.brisighellaeventi.it/brisighellaev
 enti/uploads/2026/04/yoga-25-aprile.avif
CATEGORIES:Sport e dintorni
END:VEVENT
BEGIN:VTIMEZONE
TZID:Europe/Rome
X-LIC-LOCATION:Europe/Rome
BEGIN:DAYLIGHT
DTSTART:20260329T030000
TZOFFSETFROM:+0100
TZOFFSETTO:+0200
TZNAME:CEST
END:DAYLIGHT
END:VTIMEZONE
END:VCALENDAR