BEGIN:VCALENDAR
VERSION:2.0
PRODID:-//wp-events-plugin.com//7.2.3.1//EN
TZID:Europe/Rome
X-WR-TIMEZONE:Europe/Rome
BEGIN:VEVENT
UID:2443@brisighellaeventi.it
DTSTART;TZID=Europe/Rome:20260913T100000
DTEND;TZID=Europe/Rome:20260913T200000
DTSTAMP:20260313T070421Z
URL:https://brisighellaeventi.it/eventi/mercati-e-tradizione/feste-e-sagre
 /antica-sagra-del-monticino-2026/
SUMMARY:Antica Sagra del Monticino 2026
DESCRIPTION:
ATTACH;FMTTYPE=image/jpeg:https://media.brisighellaeventi.it/brisighellaev
 enti/uploads/2025/08/Santuario-del-Monticino-Silvano-Cantoni-scaled.avif
CATEGORIES:Feste e sagre
END:VEVENT
BEGIN:VTIMEZONE
TZID:Europe/Rome
X-LIC-LOCATION:Europe/Rome
BEGIN:DAYLIGHT
DTSTART:20260329T030000
TZOFFSETFROM:+0100
TZOFFSETTO:+0200
TZNAME:CEST
END:DAYLIGHT
END:VTIMEZONE
END:VCALENDAR