BEGIN:VCALENDAR
VERSION:2.0
PRODID:-//wp-events-plugin.com//7.2.3.1//EN
TZID:Europe/Rome
X-WR-TIMEZONE:Europe/Rome
BEGIN:VEVENT
UID:2458@brisighellaeventi.it
DTSTART;TZID=Europe/Rome:20260920T090000
DTEND;TZID=Europe/Rome:20260920T235900
DTSTAMP:20260330T114457Z
URL:https://brisighellaeventi.it/eventi/mercati-e-tradizione/feste-e-sagre
 /arkana-2026/
SUMMARY:Arkana 2026
DESCRIPTION:
ATTACH;FMTTYPE=image/jpeg:https://media.brisighellaeventi.it/brisighellaev
 enti/uploads/2026/03/69c6b2e667baa.avif
CATEGORIES:Feste e sagre
END:VEVENT
BEGIN:VTIMEZONE
TZID:Europe/Rome
X-LIC-LOCATION:Europe/Rome
BEGIN:DAYLIGHT
DTSTART:20260329T030000
TZOFFSETFROM:+0100
TZOFFSETTO:+0200
TZNAME:CEST
END:DAYLIGHT
END:VTIMEZONE
END:VCALENDAR