BEGIN:VCALENDAR
VERSION:2.0
PRODID:-//wp-events-plugin.com//7.2.3.1//EN
TZID:Europe/Rome
X-WR-TIMEZONE:Europe/Rome
BEGIN:VEVENT
UID:2408@brisighellaeventi.it
DTSTART;TZID=Europe/Rome:20260314T190000
DTEND;TZID=Europe/Rome:20260314T190000
DTSTAMP:20260219T100157Z
URL:https://brisighellaeventi.it/eventi/mercati-e-tradizione/feste-e-sagre
 /lom-a-marze-2026-14-marzo/
SUMMARY:Lóm a Marzē 2026 | 14 marzo
DESCRIPTION:
ATTACH;FMTTYPE=image/jpeg:https://media.brisighellaeventi.it/brisighellaev
 enti/uploads/2026/02/637026518_1349288383912086_7337352437833038694_n.avif
CATEGORIES:Feste e sagre
END:VEVENT
BEGIN:VTIMEZONE
TZID:Europe/Rome
X-LIC-LOCATION:Europe/Rome
BEGIN:STANDARD
DTSTART:20251026T020000
TZOFFSETFROM:+0200
TZOFFSETTO:+0100
TZNAME:CET
END:STANDARD
END:VTIMEZONE
END:VCALENDAR