BEGIN:VCALENDAR
VERSION:2.0
PRODID:-//wp-events-plugin.com//7.2.3.1//EN
TZID:Europe/Rome
X-WR-TIMEZONE:Europe/Rome
BEGIN:VEVENT
UID:2445@brisighellaeventi.it
DTSTART;TZID=Europe/Rome:20261025T100000
DTEND;TZID=Europe/Rome:20261025T200000
DTSTAMP:20260313T070041Z
URL:https://brisighellaeventi.it/eventi/mercati-e-tradizione/feste-e-sagre
 /sagra-del-castrato/
SUMMARY:Sagra del Castrato
DESCRIPTION:
ATTACH;FMTTYPE=image/jpeg:https://media.brisighellaeventi.it/brisighellaev
 enti/uploads/2026/03/319-_BER9511-scaled.avif
CATEGORIES:Feste e sagre
END:VEVENT
BEGIN:VTIMEZONE
TZID:Europe/Rome
X-LIC-LOCATION:Europe/Rome
BEGIN:STANDARD
DTSTART:20261025T020000
TZOFFSETFROM:+0200
TZOFFSETTO:+0100
TZNAME:CET
END:STANDARD
END:VTIMEZONE
END:VCALENDAR