BEGIN:VCALENDAR
VERSION:2.0
PRODID:-//wp-events-plugin.com//7.2.3.1//EN
TZID:Europe/Rome
X-WR-TIMEZONE:Europe/Rome
BEGIN:VEVENT
UID:1541@brisighellaeventi.it
DTSTART;TZID=Europe/Rome:20251026T000000
DTEND;TZID=Europe/Rome:20251026T235900
DTSTAMP:20250828T141038Z
URL:https://brisighellaeventi.it/eventi/mercati-e-tradizione/feste-e-sagre
 /sagra-dellagnellone/
SUMMARY:Sagra dell'Agnellone
DESCRIPTION:
ATTACH;FMTTYPE=image/jpeg:https://media.brisighellaeventi.it/brisighellaev
 enti/uploads/2025/08/alimentando.info_agnelli.avif
CATEGORIES:Feste e sagre
END:VEVENT
BEGIN:VTIMEZONE
TZID:Europe/Rome
X-LIC-LOCATION:Europe/Rome
BEGIN:DAYLIGHT
DTSTART:20250330T030000
TZOFFSETFROM:+0100
TZOFFSETTO:+0200
TZNAME:CEST
END:DAYLIGHT
BEGIN:STANDARD
DTSTART:20251026T020000
TZOFFSETFROM:+0200
TZOFFSETTO:+0100
TZNAME:CET
END:STANDARD
END:VTIMEZONE
END:VCALENDAR