BEGIN:VCALENDAR
VERSION:2.0
PRODID:-//wp-events-plugin.com//7.2.3.1//EN
TZID:Europe/Rome
X-WR-TIMEZONE:Europe/Rome
BEGIN:VEVENT
UID:2467@brisighellaeventi.it
DTSTART;TZID=Europe/Rome:20260505T210000
DTEND;TZID=Europe/Rome:20260505T210000
DTSTAMP:20260408T111544Z
URL:https://brisighellaeventi.it/eventi/tour-e-workshop/escursioni-e-visit
 e-guidate/la-ronda-del-balestriere/
SUMMARY:La ronda del Balestriere
DESCRIPTION:
ATTACH;FMTTYPE=image/jpeg:https://media.brisighellaeventi.it/brisighellaev
 enti/uploads/2026/04/ronda-dei-balestrieri.avif
CATEGORIES:Escursioni e Visite guidate
END:VEVENT
BEGIN:VTIMEZONE
TZID:Europe/Rome
X-LIC-LOCATION:Europe/Rome
BEGIN:DAYLIGHT
DTSTART:20260329T030000
TZOFFSETFROM:+0100
TZOFFSETTO:+0200
TZNAME:CEST
END:DAYLIGHT
END:VTIMEZONE
END:VCALENDAR