BEGIN:VCALENDAR
VERSION:2.0
PRODID:-//wp-events-plugin.com//7.2.3.1//EN
TZID:Europe/Rome
X-WR-TIMEZONE:Europe/Rome
BEGIN:VEVENT
UID:2477@brisighellaeventi.it
DTSTART;TZID=Europe/Rome:20261011T083000
DTEND;TZID=Europe/Rome:20261011T083000
DTSTAMP:20260422T093128Z
URL:https://brisighellaeventi.it/eventi/tour-e-workshop/escursioni-e-visit
 e-guidate/sentieri-e-sapori-cantina-bulzaga/
SUMMARY:Sentieri e Sapori | Cantina Bulzaga
DESCRIPTION:
ATTACH;FMTTYPE=image/jpeg:https://media.brisighellaeventi.it/brisighellaev
 enti/uploads/2026/04/sentieri-sapori.avif
CATEGORIES:Escursioni e Visite guidate
END:VEVENT
BEGIN:VTIMEZONE
TZID:Europe/Rome
X-LIC-LOCATION:Europe/Rome
BEGIN:DAYLIGHT
DTSTART:20260329T030000
TZOFFSETFROM:+0100
TZOFFSETTO:+0200
TZNAME:CEST
END:DAYLIGHT
END:VTIMEZONE
END:VCALENDAR