BEGIN:VCALENDAR
VERSION:2.0
PRODID:-//wp-events-plugin.com//7.2.3.1//EN
TZID:Europe/Rome
X-WR-TIMEZONE:Europe/Rome
BEGIN:VEVENT
UID:2479@brisighellaeventi.it
DTSTART;TZID=Europe/Rome:20261114T083000
DTEND;TZID=Europe/Rome:20261114T083000
DTSTAMP:20260422T093149Z
URL:https://brisighellaeventi.it/eventi/tour-e-workshop/escursioni-e-visit
 e-guidate/sentieri-e-sapori-contea-val-damone/
SUMMARY:Sentieri e Sapori | Contea Val D’Amone
DESCRIPTION:
ATTACH;FMTTYPE=image/jpeg:https://media.brisighellaeventi.it/brisighellaev
 enti/uploads/2026/04/sentieri-sapori.avif
CATEGORIES:Escursioni e Visite guidate
END:VEVENT
BEGIN:VTIMEZONE
TZID:Europe/Rome
X-LIC-LOCATION:Europe/Rome
BEGIN:STANDARD
DTSTART:20261025T020000
TZOFFSETFROM:+0200
TZOFFSETTO:+0100
TZNAME:CET
END:STANDARD
END:VTIMEZONE
END:VCALENDAR