BEGIN:VCALENDAR
VERSION:2.0
PRODID:-//wp-events-plugin.com//7.2.3.1//EN
TZID:Europe/Rome
X-WR-TIMEZONE:Europe/Rome
BEGIN:VEVENT
UID:2407@brisighellaeventi.it
DTSTART;TZID=Europe/Rome:20260227T203000
DTEND;TZID=Europe/Rome:20260227T223000
DTSTAMP:20260305T150055Z
URL:https://brisighellaeventi.it/eventi/tour-e-workshop/laboratori-e-creat
 ivita/corso-base-di-fotografia-con-andrea-severi/
SUMMARY:Corso base di Fotografia con Andrea Severi
DESCRIPTION:
ATTACH;FMTTYPE=image/jpeg:https://media.brisighellaeventi.it/brisighellaev
 enti/uploads/2026/02/ailbhe-flynn-jkZs3Oi9pq0-unsplash-scaled.avif
CATEGORIES:Laboratori e Creatività
END:VEVENT
BEGIN:VTIMEZONE
TZID:Europe/Rome
X-LIC-LOCATION:Europe/Rome
BEGIN:STANDARD
DTSTART:20251026T020000
TZOFFSETFROM:+0200
TZOFFSETTO:+0100
TZNAME:CET
END:STANDARD
END:VTIMEZONE
END:VCALENDAR